BEGIN:VCALENDAR
VERSION:2.0
PRODID:SoCo
X-WR-CALNAME:18th Annual WOW Cruise-In
BEGIN:VEVENT
UID:263592025-07-26
DTSTART:20250726T190000Z
SEQUENCE:0
TRANSP:OPAQUE
DTEND:20250726T230000Z
SUMMARY:18th Annual WOW Cruise-In
CLASS:PUBLIC
DESCRIPTION:The 18th Annual WOW Cruise-In is back in Crisfield. Hosted by t
 he\nWheels That Heal Car Club. Classic cars\, trucks\,street rods and cust
 om\nmotorcycles will be on display. Dash plaques for the first 150\nregist
 ered vehicles. Preceeds benefit the Crisfield Fire Department. \n
X-ALT-DESC;FMTTYPE=text/html:<p>The 18th Annual WOW Cruise-In is back in Cr
 isfield. Hosted by the Wheels That Heal Car Club. Classic cars\, trucks\,s
 treet rods and custom motorcycles will be on display. Dash plaques for the
  first 150 registered vehicles. Preceeds benefit the Crisfield Fire Depart
 ment.&nbsp\;</p>
DTSTAMP:20260423T173524Z
END:VEVENT
END:VCALENDAR