BEGIN:VCALENDAR
VERSION:2.0
PRODID:SoCo
X-WR-CALNAME:4th Annual Paddlefest
BEGIN:VEVENT
UID:348112026-06-06
DTSTART:20260606T120000Z
SEQUENCE:0
TRANSP:OPAQUE
DTEND:20260607T010000Z
LOCATION:26280 Alfred J Lawson Drive\nCrisfield Maryland 21817
X-APPLE-STRUCTURED-LOCATION;VALUE=URI;X-ADDRESS=26280 Alfred J Lawson Drive
 \nCrisfield Maryland 21817;X-APPLE-RADIUS=49;X-TITLE=26280 Alfred J Lawson
  Drive:geo:38.010837,-75.847875
GEO:38.010837;-75.847875
SUMMARY:4th Annual Paddlefest
CLASS:PUBLIC
DESCRIPTION:The 4th Annual Paddlefest is set for Saturday June 6th. This fa
 mily\nfriendly event features guided paddle tours\, kids activities\, pont
 oon\nboat rides\, live music\, campfires and the Janes Island Challenge. S
 can\nthe QR code to register. \n\n \n\n \n
X-ALT-DESC;FMTTYPE=text/html:<p>The 4th Annual Paddlefest is set for Saturd
 ay June 6th. This family friendly event features guided paddle tours\, kid
 s activities\, pontoon boat rides\, live music\, campfires and the Janes I
 sland Challenge. Scan the QR code to register.&nbsp\;</p>\n\n<p>&nbsp\;</p
 >\n\n<p>&nbsp\;</p>
DTSTAMP:20260423T135353Z
END:VEVENT
END:VCALENDAR