BEGIN:VCALENDAR
VERSION:2.0
PRODID:SoCo
X-WR-CALNAME:Annual Skipjack Heritage Day
BEGIN:VEVENT
UID:351912026-05-09
DTSTART:20260509T130000Z
SEQUENCE:0
TRANSP:OPAQUE
DTEND:20260509T200000Z
LOCATION:23529 Deal Island Road\nChance Maryland 21821
X-APPLE-STRUCTURED-LOCATION;VALUE=URI;X-ADDRESS=23529 Deal Island Road\nCha
 nce Maryland 21821;X-APPLE-RADIUS=49;X-TITLE=23529 Deal Island Road:geo:38
 .175026,-75.937684
GEO:38.175026;-75.937684
SUMMARY:Annual Skipjack Heritage Day
CLASS:PUBLIC
DESCRIPTION:More details and schedule coming soon. \n
X-ALT-DESC;FMTTYPE=text/html:<p>More details and schedule coming soon.&nbsp
 \;</p>
DTSTAMP:20260421T122528Z
END:VEVENT
END:VCALENDAR