BEGIN:VCALENDAR
VERSION:2.0
PRODID:SoCo
X-WR-CALNAME:Annual Youth Fishing Rodeo
BEGIN:VEVENT
UID:351432026-05-02
DTSTART:20260502T120000Z
SEQUENCE:0
TRANSP:OPAQUE
DTEND:20260502T153000Z
LOCATION:8160 Cottman Road\nWestover Maryland 21871
X-APPLE-STRUCTURED-LOCATION;VALUE=URI;X-ADDRESS=8160 Cottman Road\nWestover
  Maryland 21871;X-APPLE-RADIUS=49;X-TITLE=8160 Cottman Road:geo:38.103333,
 -75.634917
GEO:38.103333;-75.634917
SUMMARY:Annual Youth Fishing Rodeo
CLASS:PUBLIC
DESCRIPTION:Maryland DNR will once again host a youth fishing rodeo. Kids a
 ges 15\nand under are welcome. Parents must remain on site. No\npre-regist
 ration is required. Bring your gear\, they will provide the\nbait. \n
X-ALT-DESC;FMTTYPE=text/html:<p>Maryland DNR will once again host a youth f
 ishing rodeo. Kids ages 15 and under are welcome. Parents must remain on s
 ite. No pre-registration is required. Bring your gear\, they will provide 
 the bait.&nbsp\;</p>
DTSTAMP:20260422T091624Z
END:VEVENT
END:VCALENDAR