BEGIN:VCALENDAR
VERSION:2.0
PRODID:SoCo
X-WR-CALNAME:Capt. Leonard S. Tawes Talk
BEGIN:VEVENT
UID:265832025-05-03
DTSTART:20250503T220000Z
SEQUENCE:0
TRANSP:OPAQUE
DTEND:20250503T230000Z
LOCATION:3 9th Street\nCrisfield Maryland 21817
X-APPLE-STRUCTURED-LOCATION;VALUE=URI;X-ADDRESS=3 9th Street\nCrisfield Mar
 yland 21817;X-APPLE-RADIUS=49;X-TITLE=3 9th Street:geo:37.978342,-75.85956
 7
GEO:37.978342;-75.859567
SUMMARY:Capt. Leonard S. Tawes Talk
CLASS:PUBLIC
DESCRIPTION:Dr. Paul Ewell will talk about the importance of Capt. Leonard 
 S.\nTawes travels to our maritime history. Doors open at 5:30. Light\nrefr
 eshments will be served.\n
X-ALT-DESC;FMTTYPE=text/html:<p><span style=\"font-size:14px\;\">Dr. Paul E
 well will talk about the importance of Capt. Leonard S. Tawes travels to o
 ur maritime history. Doors open at 5:30. Light refreshments will be served
 .</span></p>
DTSTAMP:20260424T155842Z
END:VEVENT
END:VCALENDAR