BEGIN:VCALENDAR
VERSION:2.0
PRODID:SoCo
X-WR-CALNAME:Charlie the Seagull Stained Glass
BEGIN:VEVENT
UID:351502026-05-02
DTSTART:20260502T210000Z
SEQUENCE:0
TRANSP:OPAQUE
DTEND:20260502T230000Z
LOCATION:1101 West Main Street\nCrisfield Maryland 21817
X-APPLE-STRUCTURED-LOCATION;VALUE=URI;X-ADDRESS=1101 West Main Street\nCris
 field Maryland 21817;X-APPLE-RADIUS=49;X-TITLE=1101 West Main Street:geo:3
 7.978293,-75.862898
GEO:37.978293;-75.862898
SUMMARY:Charlie the Seagull Stained Glass
CLASS:PUBLIC
DESCRIPTION:Tickets are available for a fun\, craft event at the Somerset C
 ounty\nArts Council. The cost is $40 per person. Get tickets at socoarts.o
 rg.\n\n \n
X-ALT-DESC;FMTTYPE=text/html:<p>Tickets are available for a fun\, craft eve
 nt at the Somerset County Arts Council. The cost is $40 per person. Get ti
 ckets at socoarts.org.</p>\n\n<p>&nbsp\;</p>
DTSTAMP:20260422T085208Z
END:VEVENT
END:VCALENDAR