BEGIN:VCALENDAR
VERSION:2.0
PRODID:SoCo
X-WR-CALNAME:Christmas in Crisfield
BEGIN:VEVENT
UID:264102025-11-29
DTSTART:20251129T220000Z
SEQUENCE:0
TRANSP:OPAQUE
DTEND:20251130T000000Z
SUMMARY:Christmas in Crisfield
CLASS:PUBLIC
DESCRIPTION:Crisfield's welcoming of Christmas with the lighting of the Cra
 b Pot\nTree.\n
X-ALT-DESC;FMTTYPE=text/html:<p><span style=\"font-size:14px\;\">Crisfield&
 #39\;s welcoming of Christmas with the lighting of the Crab Pot Tree.</spa
 n></p>
DTSTAMP:20260422T174519Z
END:VEVENT
END:VCALENDAR