BEGIN:VCALENDAR
VERSION:2.0
PRODID:SoCo
X-WR-CALNAME:Christmas in Crisfield
BEGIN:VEVENT
UID:154892023-11-25
DTSTART:20231125T220000Z
SEQUENCE:0
TRANSP:OPAQUE
DTEND:20231126T000000Z
LOCATION:1300 West Main Street\nCrisfield MD 21817
X-APPLE-STRUCTURED-LOCATION;VALUE=URI;X-ADDRESS=1300 West Main Street\nCris
 field MD 21817;X-APPLE-RADIUS=49;X-TITLE=1300 West Main Street:geo:37.9778
 02,-75.863501
GEO:37.977802;-75.863501
SUMMARY:Christmas in Crisfield
CLASS:PUBLIC
DESCRIPTION:5 – 7 pm.  City Dock\, Crisfield.  This annual family frien
 dly\nevent that kicks off our Christmas here in Crisfield with the officia
 l\nlighting of the crab pot holiday tree.  There will be live music\,\nda
 ncing\, vendors\, horse drawn carriage rides and lots of merriment.\n Spo
 nsored by the Somerset County Arts Council and the Crisfield Arts\n& Enter
 tainment District. If you are interested in more information\,\nplease con
 tact arts@crisfieldcityhall.com or call 443.397.8707\n[tel:tel:+1443-397-8
 707].\n
X-ALT-DESC;FMTTYPE=text/html:<p>5 &ndash\; 7 pm. &nbsp\;City Dock\, Crisfie
 ld. &nbsp\;This annual family friendly event that kicks off our Christmas 
 here in Crisfield with the official lighting of the crab pot holiday tree.
  &nbsp\;There will be live music\, dancing\, vendors\, horse drawn carriag
 e rides and lots of merriment. &nbsp\;Sponsored by the Somerset County Art
 s Council and the Crisfield Arts &amp\; Entertainment District. If you are
  interested in more information\, please contact arts@crisfieldcityhall.co
 m or call <a href=\"tel:tel: +1443-397-8707\">443.397.8707</a>.</p>
DTSTAMP:20260420T025920Z
END:VEVENT
END:VCALENDAR