BEGIN:VCALENDAR
VERSION:2.0
PRODID:SoCo
X-WR-CALNAME:Community Mural Workshop
BEGIN:VEVENT
UID:341172026-01-17
DTSTART:20260117T160000Z
SEQUENCE:0
TRANSP:OPAQUE
DTEND:20260117T190000Z
LOCATION:1101 West Main Street\nCrisfield Maryland 21817
X-APPLE-STRUCTURED-LOCATION;VALUE=URI;X-ADDRESS=1101 West Main Street\nCris
 field Maryland 21817;X-APPLE-RADIUS=49;X-TITLE=1101 West Main Street:geo:3
 7.978293,-75.862898
GEO:37.978293;-75.862898
SUMMARY:Community Mural Workshop
CLASS:PUBLIC
DESCRIPTION:Stop by and help create the community mural. If you can't stay\
 , grab a\ntake home kit. This is a collaborative effort with the Crisfield
  Arts\nand Entertainment District and Somerset County Arts Council. \n
X-ALT-DESC;FMTTYPE=text/html:<p>Stop by and help create the community mural
 . If you can&#39\;t stay\, grab a take home kit. This is a collaborative e
 ffort with the Crisfield Arts and Entertainment District and Somerset Coun
 ty Arts Council.&nbsp\;</p>
DTSTAMP:20260420T065058Z
END:VEVENT
END:VCALENDAR