BEGIN:VCALENDAR
VERSION:2.0
PRODID:SoCo
X-WR-CALNAME:Crisfield Chamber of Commerce Christmas Parade
BEGIN:VEVENT
UID:255862024-12-06
DTSTART:20241206T230000Z
SEQUENCE:0
TRANSP:OPAQUE
DTEND:20241207T010000Z
LOCATION:100 Collins Street\nCrisfield Maryland 21817
X-APPLE-STRUCTURED-LOCATION;VALUE=URI;X-ADDRESS=100 Collins Street\nCrisfie
 ld Maryland 21817;X-APPLE-RADIUS=49;X-TITLE=100 Collins Street:geo:37.9851
 31,-75.854372
GEO:37.985131;-75.854372
SUMMARY:Crisfield Chamber of Commerce Christmas Parade
CLASS:PUBLIC
DESCRIPTION:Trophies will be awarded for best fire department\, best marchi
 ng band\,\nbest float\, best jeep\, best group entry and best overall.Line
 up at the\nCrisfield Library and parading towards the City Dock. \n\nOnli
 ne event registration is available at\nhttp://somelibrary.org/christmas\n[
 http://somelibrary.org/christmas?fbclid=IwZXh0bgNhZW0CMTAAAR0KdxP7hcRKMCIs
 2_j1o-GDzcT-4H7MbZph2vMq8P0e3L6FrCLsD8wb6bs_aem_yRKTK68befRm2d40yE3dnA]\,\
 nand a printable entry form is attached.\n\nIf you have questions\, please
  do not hesitate to contact at\n410-651-0852 or ed.goyda@somelibrary.org.\
 n
X-ALT-DESC;FMTTYPE=text/html:<p>Trophies will be awarded for best fire depa
 rtment\, best marching band\, best float\, best jeep\, best group entry an
 d best overall.Lineup at the Crisfield Library and parading towards the Ci
 ty Dock.&nbsp\;</p>\n\n<p>Online event registration is available at <a att
 ributionsrc=\"/privacy_sandbox/comet/register/source/?xt=AZXqjuLxvRT4tjls5
 J5_3-Go-7C-9qRccRvUUx6oVMpdo3S0mOt_bxxydv3KP7Myla94vJFTxBLOxp6hoI5ZeObudiy
 U-CYVxob8nvF9HBD-Zl_q-ImXekbu8bH8_IiP0cYVtd-kO2aWBzjUlQOKVtuKLShYpkxwKl-Od
 DNcvMzu1UDs458XvLUKEqBq_bRQg_6TQtdz01yGql6L2tfrOwlqP8D2ZcMfXOXyzT-g7ebohdw
 Ji4WlQ6Xgi1av4moB9377BSI0hyN3BCx-SHUyND2UrNLUv0_jnqKsUzj-wr2k1vIr8qfymiRZi
 3t8rLBjrOd1q9bg69SIkZ_ldzNXlrOxwol9vWrTdEWd5P5_74hKlupiETQI2Bs4A30xE0NIuba
 3CbVn0knHFYueO-7Vk6kS8OnPtI2kqy549E7E1RSBg_G9iG6lRU5TcoBU507AO3uT75D0dJbuh
 B35PUmNUbmzVlYMPcZMXGod-tU1cRsN6mAvMSl9MLZzsqiaOoRaBfkWTSQsFzl0Bv90DzMza4t
 rmNCeM4bO60V0RHc93phwgRO-Dx1O6zJg8rE_SF7XINpS8t3MUutawWf7Qz-_qtIm5aZK5FdKS
 8XOTGt40lq_QctIpe9BVHmdch-5p6_2UtBx_dELYseXaxQjylY4EwTzr2KhyV1j5B86fKOHTr-
 8wq0GEpABTLyPJVT8GVOpuO8W6vdwZ7Rbxjx7FQlGapggYyMcd5ombXX1p5cjOouwjBP6DborN
 K_gvL9u2DYUhFqUuQbbRPZigcoKyiMBFrY0e8bhsYY3KOUlKYIDY_P9NIAOmRxLp457bHbU6km
 bnICdbG097BH_e8dhr8l6c7MmOeB8uS3hXBmSWXGoVWYGaulVAINgXubybXj8-k-Bjt5-vgI5V
 WH0O-l8AvRwaosR29gktjd_UBUWZisETb3rsBGW8fBh7iwo-wUQLtwNCoFjZBGBp3UQyfOQzt3
 68RlDzKg54OmzBThdSRXMNSBq05CozlSysV4JHIz_HmKWIX-Ye_WPo6C3HhqcGQzfGNb7SWLh9
 RoEKJ0X2g4GDNtxXxxlZhlsTjhvNLMXu46kDFxogGpEaexlTllLbkNbNU-n98-QoLlGuINxjuG
 34BJFQd2Bjf18-D7QCKxNeyqQ9cJ7khiQhblvz4QB6mY6h8N-3TBzsk7HgOyNvSZLS6Dtnm7qY
 R2hoGdVenp9Gkz8jSCfFtLwEJwti_P_McyLF3MJRMHs_-mbzCG4vUbf6j1oHBmpCq_lLtOUezC
 sXyrzeRHIpnnfBTP-t6B02bh9qJCjmEBcXGyWugffb0aDOpzWhv03t2mFzQkRsuKnrwjHLL9ep
 Jap5yiztnVnjW7AuwxLOYMrnmvqy-sOPlxC6fJ_rxUYMoJjZCgswIeSy1AYZdkoqMyLcmiPsnC
 Vnin-HVE2\" href=\"http://somelibrary.org/christmas?fbclid=IwZXh0bgNhZW0CM
 TAAAR0KdxP7hcRKMCIs2_j1o-GDzcT-4H7MbZph2vMq8P0e3L6FrCLsD8wb6bs_aem_yRKTK68
 befRm2d40yE3dnA\" rel=\"nofollow\" role=\"link\" tabindex=\"0\" target=\"_
 blank\">http://somelibrary.org/christmas</a>\, and a printable entry form 
 is attached.</p>\n\n<p>If you have questions\, please do not hesitate to c
 ontact at 410-651-0852 or ed.goyda@somelibrary.org.</p>
DTSTAMP:20260423T170621Z
END:VEVENT
END:VCALENDAR