BEGIN:VCALENDAR
VERSION:2.0
PRODID:SoCo
X-WR-CALNAME:Crisfield\; Charting the Tides
BEGIN:VEVENT
UID:270332025-06-28
DTSTART:20250628T220000Z
SEQUENCE:0
TRANSP:OPAQUE
DTEND:20250629T003000Z
LOCATION:4 East Main Street\nCrisfield Maryland 21817
X-APPLE-STRUCTURED-LOCATION;VALUE=URI;X-ADDRESS=4 East Main Street\nCrisfie
 ld Maryland 21817;X-APPLE-RADIUS=49;X-TITLE=4 East Main Street:geo:37.9812
 65,-75.843336
GEO:37.981265;-75.843336
SUMMARY:Crisfield\; Charting the Tides
CLASS:PUBLIC
DESCRIPTION:Crisfield: Charting the Tides\nJoin Crisfield AED for an evenin
 g of exploration and inspiration at\n\"Crisfield: Charting the Tides.\" Th
 is special event will take place on\nJune 28\, 2025\, from 6:00 PM to 8:30
  PM at the Corbin Studio & Gallery\nat 4 E Main St\, Crisfield.\nEvent Hig
 hlights\nThis free event is designed to benefit the Hohman Center Food Pan
 try.\nYour participation is a meaningful way to contribute to the communit
 y.\nWe kindly ask attendees to bring non-perishable food items or consider
 \nmaking cash donations. Your generosity will be greatly appreciated.\nAct
 ivities and Entertainment\n• Video Screening: Blizzard of 1936 - Richard
  Stenner\n• Presentation: Picker Strike 1938\n• Poetry Reading: Sista 
 Big & Marcus Colasurdo\n• Presentation: Mary Smoker from the Crisfield H
 eritage Museum\n• Acoustic Music: Performed by Bruce Wooster\n• Photo 
 Exhibit: Featuring works by Linda Plank & Friends\n\nAdditional Details\n
 • Admission: FREE\n• Refreshments: Light refreshments will be provided
 \n
X-ALT-DESC;FMTTYPE=text/html:<p><span style=\"font-size:14px\;\">Crisfield:
  Charting the Tides<br />\nJoin Crisfield AED for an evening of exploratio
 n and inspiration at &quot\;Crisfield: Charting the Tides.&quot\; This spe
 cial event will take place on June 28\, 2025\, from 6:00 PM to 8:30 PM at 
 the Corbin Studio &amp\; Gallery at 4 E Main St\, Crisfield.<br />\nEvent 
 Highlights<br />\nThis free event is designed to benefit the Hohman Center
  Food Pantry. Your participation is a meaningful way to contribute to the 
 community. We kindly ask attendees to bring non-perishable food items or c
 onsider making cash donations. Your generosity will be greatly appreciated
 .<br />\nActivities and Entertainment<br />\n&bull\; Video Screening: Bliz
 zard of 1936 - Richard Stenner<br />\n&bull\; Presentation: Picker Strike 
 1938<br />\n&bull\; Poetry Reading: Sista Big &amp\; Marcus Colasurdo<br /
 >\n&bull\; Presentation: Mary Smoker from the Crisfield Heritage Museum<br
  />\n&bull\; Acoustic Music: Performed by Bruce Wooster<br />\n&bull\; Pho
 to Exhibit: Featuring works by Linda Plank &amp\; Friends</span></p>\n\n<p
 ><span style=\"font-size:14px\;\">Additional Details<br />\n&bull\; Admiss
 ion: FREE<br />\n&bull\; Refreshments: Light refreshments will be provided
 </span></p>
DTSTAMP:20260423T220522Z
END:VEVENT
END:VCALENDAR