BEGIN:VCALENDAR
VERSION:2.0
PRODID:SoCo
X-WR-CALNAME:Crisfield Neighborhood Watch Yard Sale
BEGIN:VEVENT
UID:351922026-04-25
DTSTART:20260425T120000Z
SEQUENCE:0
TRANSP:OPAQUE
DTEND:20260425T180000Z
LOCATION:204 Myrtle Street\nCrisfield Maryland 21817
X-APPLE-STRUCTURED-LOCATION;VALUE=URI;X-ADDRESS=204 Myrtle Street\nCrisfiel
 d Maryland 21817;X-APPLE-RADIUS=49;X-TITLE=204 Myrtle Street:geo:37.984031
 ,-75.847553
GEO:37.984031;-75.847553
SUMMARY:Crisfield Neighborhood Watch Yard Sale
CLASS:PUBLIC
DESCRIPTION:Come support the fundraising efforts for the newly formed Crisf
 ield\nNeighborhood Watch. Table rentals are available for $10. The event\n
 will feature a raffle and WBYC 107.3 will be on-site. Call\n443-953-4497 t
 o reserve your table.\n\n \n
X-ALT-DESC;FMTTYPE=text/html:<p>Come support the fundraising efforts for th
 e newly formed Crisfield Neighborhood Watch. Table rentals are available f
 or $10. The event will feature a raffle and WBYC 107.3 will be on-site. Ca
 ll 443-953-4497 to reserve your table.</p>\n\n<p>&nbsp\;</p>
DTSTAMP:20260425T114255Z
END:VEVENT
END:VCALENDAR