BEGIN:VCALENDAR
VERSION:2.0
PRODID:SoCo
X-WR-CALNAME:Crisfield Soft Shell Festival
BEGIN:VEVENT
UID:340382026-05-24
DTSTART:20260524T160000Z
SEQUENCE:0
TRANSP:OPAQUE
DTEND:20260524T210000Z
LOCATION:1200-1300 West Main Street\nCrisfield Maryland 21817
X-APPLE-STRUCTURED-LOCATION;VALUE=URI;X-ADDRESS=1200-1300 West Main Street\
 nCrisfield Maryland 21817;X-APPLE-RADIUS=49;X-TITLE=1200-1300 West Main St
 reet:geo:37.977802,-75.863501
GEO:37.977802;-75.863501
SUMMARY:Crisfield Soft Shell Festival
CLASS:PUBLIC
DESCRIPTION:Rising Tide Crisfield will once again host this annual event. C
 ome for\nfresh seafood\, live entertainment with Old State Line\, the Wate
 rman's\nHall of Fame Awards\, vendors and much more. \n\n \n
X-ALT-DESC;FMTTYPE=text/html:<p>Rising Tide Crisfield will once again host 
 this annual event. Come for fresh seafood\, live entertainment with Old St
 ate Line\, the Waterman&#39\;s Hall of Fame Awards\, vendors and much more
 .&nbsp\;</p>\n\n<p>&nbsp\;</p>
DTSTAMP:20260421T122110Z
END:VEVENT
END:VCALENDAR