BEGIN:VCALENDAR
VERSION:2.0
PRODID:SoCo
X-WR-CALNAME:Crisfield Soft Shell Festival
BEGIN:VEVENT
UID:257662025-05-25
DTSTART:20250525T160000Z
SEQUENCE:0
TRANSP:OPAQUE
DTEND:20250525T210000Z
LOCATION:1103 Jersey Road\nCrisfield Maryland 21817
X-APPLE-STRUCTURED-LOCATION;VALUE=URI;X-ADDRESS=1103 Jersey Road\nCrisfield
  Maryland 21817;X-APPLE-RADIUS=49;X-TITLE=1103 Jersey Road:geo:37.976367,-
 75.863213
GEO:37.976367;-75.863213
SUMMARY:Crisfield Soft Shell Festival
CLASS:PUBLIC
DESCRIPTION:The annual event is hosted by The High Tide Club and Rising Tid
 e\nCrisfield and features fresh seafood\, crab cakes\, soft crab\nsandwich
 es\, artisan vendors\, live entertainment and the Watermen's\nHall of Fame
  Awards. \n
X-ALT-DESC;FMTTYPE=text/html:<p>The annual event is hosted by The High Tide
  Club and Rising Tide Crisfield and features fresh seafood\, crab cakes\, 
 soft crab sandwiches\, artisan vendors\, live entertainment and the Waterm
 en&#39\;s Hall of Fame Awards.&nbsp\;</p>
DTSTAMP:20260423T150821Z
END:VEVENT
END:VCALENDAR