BEGIN:VCALENDAR
VERSION:2.0
PRODID:SoCo
X-WR-CALNAME:Designer Purse Bingo
BEGIN:VEVENT
UID:259052025-04-05
DTSTART:20250405T210000Z
SEQUENCE:0
TRANSP:OPAQUE
DTEND:20250406T010000Z
LOCATION:23275 Lola Wheatley Road\nDeal Island Historic District Maryland 2
 1821
X-APPLE-STRUCTURED-LOCATION;VALUE=URI;X-ADDRESS=23275 Lola Wheatley Road\nD
 eal Island Historic District Maryland 21821;X-APPLE-RADIUS=49;X-TITLE=2327
 5 Lola Wheatley Road:geo:38.157054,-75.947145
GEO:38.157054;-75.947145
SUMMARY:Designer Purse Bingo
CLASS:PUBLIC
DESCRIPTION:This fundraising event features 20 regular games and special ga
 mes.\n50/50\, tricky tray plus food and drinks. Contact Tracy for tickets.
 \nCall 443-235-0554 or email dealislandchancevfd@gmail.com.\n
X-ALT-DESC;FMTTYPE=text/html:<p>This fundraising event features 20 regular 
 games and special games. 50/50\, tricky tray plus food and drinks. Contact
  Tracy for tickets. Call 443-235-0554 or email dealislandchancevfd@gmail.c
 om.</p>
DTSTAMP:20260421T081832Z
END:VEVENT
END:VCALENDAR