BEGIN:VCALENDAR
VERSION:2.0
PRODID:SoCo
X-WR-CALNAME:Emily Norman Memorial Golf Tournament
BEGIN:VEVENT
UID:195362024-04-20
DTSTART:20240420T113000Z
SEQUENCE:0
TRANSP:OPAQUE
DTEND:20240420T200000Z
LOCATION:8380 Crisfield Highway\nWestover Maryland 21871
X-APPLE-STRUCTURED-LOCATION;VALUE=URI;X-ADDRESS=8380 Crisfield Highway\nWes
 tover Maryland 21871;X-APPLE-RADIUS=49;X-TITLE=8380 Crisfield Highway:geo:
 38.110921,-75.712843
GEO:38.110921;-75.712843
SUMMARY:Emily Norman Memorial Golf Tournament
CLASS:PUBLIC
DESCRIPTION:$100 per player $400 per team. Registration deadline is April 1
 3th.\nCheck in is at 7:30 am. 4 player scramble format (co-ed encouraged)\
 nClosest to Hole. Longest drive and putting contest. Mulligans\,\nraffles\
 , and 50/50. BBQ lunch provided by “Blowin Smoke”. 100% of\nproceeds g
 oes towards the Norman Girls College Fund. Contact Jeff\nFinney at 302-242
 -0631 or jefffinney1@gmail.com or Sherry Stevenson at\n410-726-1604 or sba
 ll8359@gmail.com.\n
X-ALT-DESC;FMTTYPE=text/html:<p class=\"MsoNoSpacing\"><span style=\"font-s
 ize:11pt\"><span style=\"font-family:Calibri\,sans-serif\">$100 per player
  $400 per team. Registration deadline is April 13<sup>th</sup>. Check in i
 s at 7:30 am. 4 player scramble format (co-ed encouraged) Closest to Hole.
  Longest drive and putting contest. Mulligans\, raffles\, and 50/50. BBQ l
 unch provided by &ldquo\;Blowin Smoke&rdquo\;. 100% of proceeds goes towar
 ds the Norman Girls College Fund. Contact Jeff Finney at 302-242-0631 or j
 efffinney1@gmail.com or Sherry Stevenson at 410-726-1604 or sball8359@gmai
 l.com.</span></span></p>
DTSTAMP:20260419T130802Z
END:VEVENT
END:VCALENDAR