BEGIN:VCALENDAR
VERSION:2.0
PRODID:SoCo
X-WR-CALNAME:Forest Bathing at Janes Island
BEGIN:VEVENT
UID:339992025-12-17
DTSTART:20251217T193000Z
SEQUENCE:0
TRANSP:OPAQUE
DTEND:20251217T213000Z
LOCATION:26280 Alfred J Lawson Drive\nCrisfield Maryland 21817
X-APPLE-STRUCTURED-LOCATION;VALUE=URI;X-ADDRESS=26280 Alfred J Lawson Drive
 \nCrisfield Maryland 21817;X-APPLE-RADIUS=49;X-TITLE=26280 Alfred J Lawson
  Drive:geo:38.010837,-75.847875
GEO:38.010837;-75.847875
SUMMARY:Forest Bathing at Janes Island
CLASS:PUBLIC
DESCRIPTION:Experience a taste of the health and wellness benefits of the s
 low\,\nsensory walks in nature. Cost is $15\n\nScan the QR code to registe
 r \n
X-ALT-DESC;FMTTYPE=text/html:<p>Experience a taste of the health and wellne
 ss benefits of the slow\, sensory walks in nature. Cost is $15</p>\n\n<p>S
 can the QR code to register&nbsp\;</p>
DTSTAMP:20260422T085615Z
END:VEVENT
END:VCALENDAR