BEGIN:VCALENDAR
VERSION:2.0
PRODID:SoCo
X-WR-CALNAME:Holiday Historic House Tour
BEGIN:VEVENT
UID:253732024-12-07
DTSTART:20241207T190000Z
SEQUENCE:0
TRANSP:OPAQUE
DTEND:20241207T230000Z
SUMMARY:Holiday Historic House Tour
CLASS:PUBLIC
DESCRIPTION:Enjoy a Christmas Candlelight Tour of historic homes & churches
  in\nPrincess Anne\, MD.\nThe house tour will be held from 2 to 6 p.m. fea
 turing private homes\,\nchurches\, public buildings and Teackle Mansion de
 corated for for the\nholidays.\nHouse tour tickets are $25.\n\n​Tickets 
 will be available for sale Nov. 1\, 2024.\n\nInterested in being a sponsor
 ?\nVisit https://forms.gle/AKUSqEZeoM9iMnNo7\n[https://forms.gle/AKUSqEZe
 oM9iMnNo7?fbclid=IwZXh0bgNhZW0CMTAAAR2YRcMnvn44mvsIPVSVl99LrLZxPrAqdjWkXOQ
 2z3olOAtP2wUrda2qZVI_aem_WO6ti0rG5YUPlzzfE5B95w]\n\n \n
X-ALT-DESC;FMTTYPE=text/html:<p>Enjoy a Christmas Candlelight Tour of histo
 ric homes &amp\; churches in Princess Anne\, MD.<br />\nThe house tour wil
 l be held from 2 to 6 p.m. featuring private homes\, churches\, public bui
 ldings and Teackle Mansion decorated for for the holidays.<br />\nHouse to
 ur tickets are $25.</p>\n\n<p>​Tickets will be available for sale Nov. 1
 \, 2024.</p>\n\n<p>Interested in being a sponsor? Visit&nbsp\;<a attributi
 onsrc=\"/privacy_sandbox/comet/register/source/?xt=AZUOhQz4Y_OzpgPkzw79YU5
 oB3WH0qUHEcQVrgQ4qdHqhmS8udS91vuie4-KBMebvEVQ7UstSCVGDAyQAPGVvd3_XAl3qnYn3
 k0sV28Yta-i00qovd-JLmlnudGz2AipN9Jica3c-rZC_uptBRCBHxMVTFGR_Ah4Vk6_toTDxBP
 lpST3wy4hvH4piTANxIm19dlV2GYbaf9S7J4IU_DWC1zZTsEWVPNsMorZU9yLgFC_YH5UMW3eu
 p8gXgtMmLgZtDvqYxXlKeTI6DanbhwknB-J8GbcYav0f-C9DHRa5y4nOyP4i5uXFp5FKz0nLPC
 e1uqnYJfkuDd0NmZU5MydWyHVv2rBY3vAsjMtfBHy4foAvjz1BlyhmCxmaBTU7B88ni7-U_GNS
 acCKUrt614b_sPY1tRUssv97UUJKgbc3YIyhGXJy_hLex6jFYTiYm8UAxyBrrbIg_uSycyOX3T
 YW3NiIiNeND3Pyyhs3eZhV8Fd4D4uN9_9cpSnzxT0ImcqgN_qPI98d_fWxAHQG4jXiCAB5Ykna
 V9ISVuZ5QyPgBsPftc4yXby7PI0QXZPq4-p-7SK30sCva1KVeZ1uzLGc7E86iKro7CctfGHAwB
 2TdA17V2FD7TITFLiQK64oK9t0Puwh_-QQ6KKMhuCsOzcjRND3Y-LyLSy8Jku1krkuwU-R6d70
 odCYun1oc4NYOY3_0ky7Gm-PfXM51GDj9BegnXZF6J28BTJ0jQ2Cf8jcSeMBLF7J7IBBzYTtX9
 wXs4hByzbRvddSRzPYOq7rvejiExOq3evTXHXr7eMgF1FQ9chIER4QLgN2I62uo_ZpvvTX5JnT
 ZTajLJumeHyU-dn2T74icAIjBupeLwGQArYyK8qbg\" href=\"https://forms.gle/AKUSq
 EZeoM9iMnNo7?fbclid=IwZXh0bgNhZW0CMTAAAR2YRcMnvn44mvsIPVSVl99LrLZxPrAqdjWk
 XOQ2z3olOAtP2wUrda2qZVI_aem_WO6ti0rG5YUPlzzfE5B95w\" rel=\"nofollow\" role
 =\"link\" tabindex=\"0\" target=\"_blank\">https://forms.gle/AKUSqEZeoM9iM
 nNo7</a></p>\n\n<p>&nbsp\;</p>
DTSTAMP:20260422T230225Z
END:VEVENT
END:VCALENDAR