BEGIN:VCALENDAR
VERSION:2.0
PRODID:SoCo
X-WR-CALNAME:Ink and Impression - A linocut printmaking class
BEGIN:VEVENT
UID:351492026-04-25
DTSTART:20260425T170000Z
SEQUENCE:0
TRANSP:OPAQUE
DTEND:20260425T190000Z
LOCATION:1101 West Main Street\nCrisfield Maryland 21817
X-APPLE-STRUCTURED-LOCATION;VALUE=URI;X-ADDRESS=1101 West Main Street\nCris
 field Maryland 21817;X-APPLE-RADIUS=49;X-TITLE=1101 West Main Street:geo:3
 7.978293,-75.862898
GEO:37.978293;-75.862898
SUMMARY:Ink and Impression - A linocut printmaking class
CLASS:PUBLIC
DESCRIPTION:Grab your tickets for a linocut printmaking class at the West M
 ain\nStreet Gallery in Crisfield. Create unique prints or personalized\nst
 amps while exploring texture\, pattern and ink. Open tl all ages and\nskil
 l levels. \n\n \n
X-ALT-DESC;FMTTYPE=text/html:<p>Grab your tickets for a linocut printmaking
  class at the West Main Street Gallery in Crisfield. Create unique prints 
 or personalized stamps while exploring texture\, pattern and ink. Open tl 
 all ages and skill levels.&nbsp\;</p>\n\n<p>&nbsp\;</p>
DTSTAMP:20260422T085615Z
END:VEVENT
END:VCALENDAR