BEGIN:VCALENDAR
VERSION:2.0
PRODID:SoCo
X-WR-CALNAME:Land Grant Walk at UMES
BEGIN:VEVENT
UID:351512026-04-21
DTSTART:20260421T140000Z
SEQUENCE:0
TRANSP:OPAQUE
DTEND:20260421T150000Z
LOCATION:11868 College Backbone Road\nPrincess Anne Maryland 21853
X-APPLE-STRUCTURED-LOCATION;VALUE=URI;X-ADDRESS=11868 College Backbone Road
 \nPrincess Anne Maryland 21853;X-APPLE-RADIUS=49;X-TITLE=11868 College Bac
 kbone Road:geo:38.210217,-75.684800
GEO:38.210217;-75.684800
SUMMARY:Land Grant Walk at UMES
CLASS:PUBLIC
DESCRIPTION:Land grant walk at UMES to celebrate the Second Morrill Act of 
 1890\,\nwhich established the 19-land grant institutions including UMES. T
 he\nwalk will follow a tree planting to commemorate Earth Day. \n
X-ALT-DESC;FMTTYPE=text/html:<p>Land grant walk at UMES to celebrate the Se
 cond Morrill Act of 1890\, which established the 19-land grant institution
 s including UMES. The walk will follow a tree planting to commemorate Eart
 h Day.&nbsp\;</p>
DTSTAMP:20260422T091003Z
END:VEVENT
END:VCALENDAR