BEGIN:VCALENDAR
VERSION:2.0
PRODID:SoCo
X-WR-CALNAME:Marion VFD Chicken BBQ
BEGIN:VEVENT
UID:351482026-04-19
DTSTART:20260419T130000Z
SEQUENCE:0
TRANSP:OPAQUE
DTEND:20260419T170000Z
LOCATION:231 West Main Street\nMarion Virginia 24354
X-APPLE-STRUCTURED-LOCATION;VALUE=URI;X-ADDRESS=231 West Main Street\nMario
 n Virginia 24354;X-APPLE-RADIUS=49;X-TITLE=231 West Main Street:geo:36.831
 844,-81.522931
GEO:36.831844;-81.522931
SUMMARY:Marion VFD Chicken BBQ
CLASS:PUBLIC
DESCRIPTION:Marion VFD Chicken BBQ is this Sunday starting at 9am until sol
 d out.\n$12 per dinner\, $10 for half chicken.\n
X-ALT-DESC;FMTTYPE=text/html:<p>Marion VFD Chicken BBQ is this Sunday start
 ing at 9am until sold out. $12 per dinner\, $10 for half chicken.</p>
DTSTAMP:20260422T090429Z
END:VEVENT
END:VCALENDAR