BEGIN:VCALENDAR
VERSION:2.0
PRODID:SoCo
X-WR-CALNAME:Our Spring Art Show Opening Reception
BEGIN:VEVENT
UID:351462026-04-17
DTSTART:20260417T210000Z
SEQUENCE:0
TRANSP:OPAQUE
DTEND:20260417T230000Z
LOCATION:413 West Main Street\nCrisfield Maryland 21817
X-APPLE-STRUCTURED-LOCATION;VALUE=URI;X-ADDRESS=413 West Main Street\nCrisf
 ield Maryland 21817;X-APPLE-RADIUS=49;X-TITLE=413 West Main Street:geo:37.
 981790,-75.855031
GEO:37.981790;-75.855031
SUMMARY:Our Spring Art Show Opening Reception
CLASS:PUBLIC
DESCRIPTION:The Crisfield Arts Syndicate will hold their annual Spring Art 
 Show\nand invite you to the opening reception on April 17th from 5 to 7pm 
 at\nGallery 413 in Crisfield. For more information visit\ncrisfieldartssyn
 dicate.org. \n
X-ALT-DESC;FMTTYPE=text/html:<p>The Crisfield Arts Syndicate will hold thei
 r annual Spring Art Show and invite you to the opening reception on April 
 17th from 5 to 7pm at Gallery 413 in Crisfield. For more information visit
  crisfieldartssyndicate.org.&nbsp\;</p>
DTSTAMP:20260422T090356Z
END:VEVENT
END:VCALENDAR