BEGIN:VCALENDAR
VERSION:2.0
PRODID:SoCo
X-WR-CALNAME:Princess Anne Christmas Parade
BEGIN:VEVENT
UID:256972024-12-13
DTSTART:20241213T230000Z
SEQUENCE:0
TRANSP:OPAQUE
DTEND:20241214T010000Z
SUMMARY:Princess Anne Christmas Parade
CLASS:PUBLIC
DESCRIPTION:The Princess Anne Chamber of Commerce and Main Street Princess 
 Anne\npresent the annual Christmas Parade. Bands\, floats and more will li
 ght\nup the night and get you and your entire family in the holiday\nspiri
 t. \n
X-ALT-DESC;FMTTYPE=text/html:<p>The Princess Anne Chamber of Commerce and M
 ain Street Princess Anne present the annual Christmas Parade. Bands\, floa
 ts and more will light up the night and get you and your entire family in 
 the holiday spirit.&nbsp\;</p>
DTSTAMP:20260423T170227Z
END:VEVENT
END:VCALENDAR