BEGIN:VCALENDAR
VERSION:2.0
PRODID:SoCo
X-WR-CALNAME:Princess Anne Community Egg Hunt
BEGIN:VEVENT
UID:265232025-04-05
DTSTART:20250405T160000Z
SEQUENCE:0
TRANSP:OPAQUE
DTEND:20250405T190000Z
LOCATION:11840 Somerset Avenue\nPrincess Anne Maryland 21853
X-APPLE-STRUCTURED-LOCATION;VALUE=URI;X-ADDRESS=11840 Somerset Avenue\nPrin
 cess Anne Maryland 21853;X-APPLE-RADIUS=49;X-TITLE=11840 Somerset Avenue:g
 eo:38.206328,-75.694475
GEO:38.206328;-75.694475
SUMMARY:Princess Anne Community Egg Hunt
CLASS:PUBLIC
DESCRIPTION:This event is free for youth and all ages of individuals with\n
 intellectual and developmental disabilities. Registration starting at\n12 
 pm and hunt starting at 1pm. Walk-ups ARE welcomed.\n\nHosted by: Tina Har
 ris\n\nFrom Best Buddies Maryland\n\nLynnell Pugh with Princess Anne Chamb
 er-commence and Pugh Patient Care\n\nWith a large amount of community supp
 orters donating\, eggs\, candy\,\nEaster Baskets and the Princess Anne Pol
 ice Department serving\nhotdogs\, chips and drinks. We have 6 Easter Baske
 ts Raffles\, a bounce\nhouse and more. This is an event you don't want to 
 miss with an\nafternoon full of community fun.\n
X-ALT-DESC;FMTTYPE=text/html:<p><span style=\"font-size:14px\;\">This event
  is free for youth and all ages of individuals with intellectual and devel
 opmental disabilities. Registration starting at 12 pm and hunt starting at
  1pm. Walk-ups ARE welcomed.</span></p>\n\n<p><span style=\"font-size:14px
 \;\">Hosted by: Tina Harris</span></p>\n\n<p><span style=\"font-size:14px\
 ;\">From Best Buddies Maryland</span></p>\n\n<p><span style=\"font-size:14
 px\;\">Lynnell Pugh with Princess Anne Chamber-commence and Pugh Patient C
 are</span></p>\n\n<p><span style=\"font-size:14px\;\">With a large amount 
 of community supporters donating\, eggs\, candy\, Easter Baskets and the P
 rincess Anne Police Department serving hotdogs\, chips and drinks. We have
  6 Easter Baskets Raffles\, a bounce house and more. This is an event you 
 don&#39\;t want to miss with an afternoon full of community fun.</span></p
 >
DTSTAMP:20260422T103512Z
END:VEVENT
END:VCALENDAR