BEGIN:VCALENDAR
VERSION:2.0
PRODID:SoCo
X-WR-CALNAME:Princess Anne Tree Lighting
BEGIN:VEVENT
UID:256982024-12-06
DTSTART:20241206T230000Z
SEQUENCE:0
TRANSP:OPAQUE
DTEND:20241207T010000Z
SUMMARY:Princess Anne Tree Lighting
CLASS:PUBLIC
DESCRIPTION:Bring the entire family to the annual tree lighting in Downtown
 \nPrincess Anne. Featuring music\, performances and refreshments. \n
X-ALT-DESC;FMTTYPE=text/html:<p>Bring the entire family to the annual tree 
 lighting in Downtown Princess Anne. Featuring music\, performances and ref
 reshments.&nbsp\;</p>
DTSTAMP:20260423T170621Z
END:VEVENT
END:VCALENDAR