BEGIN:VCALENDAR
VERSION:2.0
PRODID:SoCo
X-WR-CALNAME:Seagull Century Bike Ride
BEGIN:VEVENT
UID:188002023-10-14
DTSTART:20231014T130000Z
SEQUENCE:0
TRANSP:OPAQUE
DTEND:20231014T160000Z
SUMMARY:Seagull Century Bike Ride
CLASS:PUBLIC
DESCRIPTION:This is a nationally acclaimed bicycling event that begins at\n
 Salisbury University\, a portion of the ride will traverse parts of\nPrinc
 ess Anne with a rest stop located at Washington High School. \nNot only d
 o we need to be aware that they are on the road\, but please\ncheer them o
 n as they enjoy such areas as Backbone Rd\, William Hytche\nBlvd\, Old Pri
 ncess Anne Rd\, Dublin Rd\, Arden Station Rd\, Charles\nBoston Rd\, and Pe
 rryhawkin Rd. to name a few. They will be in our area\nbetween 9:30 a.m. a
 nd 12 noon.\n\n \n
X-ALT-DESC;FMTTYPE=text/html:<p><span style=\"font-size:12pt\; font-variant
 :normal\; white-space:pre-wrap\"><span style=\"font-family:Roboto\,sans-se
 rif\"><span style=\"color:#183247\"><span style=\"font-weight:400\"><span 
 style=\"font-style:normal\"><span style=\"text-decoration:none\">This is a
  nationally acclaimed bicycling event that begins at Salisbury University\
 , a portion of the ride will traverse parts of Princess Anne with a rest s
 top located at Washington High School.&nbsp\; Not only do we need to be aw
 are that they are on the road\, but please cheer them on as they enjoy suc
 h areas as Backbone Rd\, William Hytche Blvd\, Old Princess Anne Rd\, Dubl
 in Rd\, Arden Station Rd\, Charles Boston Rd\, and Perryhawkin Rd. to name
  a few. They will be in our area between 9:30 a.m. and 12 noon.</span></sp
 an></span></span></span></span></p>\n\n<p>&nbsp\;</p>
DTSTAMP:20260419T132822Z
END:VEVENT
END:VCALENDAR