BEGIN:VCALENDAR
VERSION:2.0
PRODID:SoCo
X-WR-CALNAME:Smith Island Fishing Tournament
BEGIN:VEVENT
UID:348862027-05-21
DTSTART;VALUE=DATE:20270521
SEQUENCE:0
TRANSP:OPAQUE
DTEND;VALUE=DATE:20270522
LOCATION:20846 Caleb Jones Road\nSmith Island MD 21824
X-APPLE-STRUCTURED-LOCATION;VALUE=URI;X-ADDRESS=20846 Caleb Jones Road\nSmi
 th Island MD 21824;X-APPLE-RADIUS=49;X-TITLE=20846 Caleb Jones Road:geo:37
 .995364,-76.033211
GEO:37.995364;-76.033211
SUMMARY:Smith Island Fishing Tournament
CLASS:PUBLIC
DESCRIPTION:After a year off\, the 5th Annual Smith Island Fishing Tourname
 nt\nreturns.\n
X-ALT-DESC;FMTTYPE=text/html:<p>After a year off\, the 5th Annual Smith Isl
 and Fishing Tournament returns.</p>
X-MICROSOFT-CDO-ALLDAYEVENT:TRUE
DTSTAMP:20260423T170404Z
END:VEVENT
END:VCALENDAR