BEGIN:VCALENDAR
VERSION:2.0
PRODID:SoCo
X-WR-CALNAME:Stars and Stripes Fest
BEGIN:VEVENT
UID:264082025-07-06
DTSTART:20250706T220000Z
SEQUENCE:0
TRANSP:OPAQUE
DTEND:20250707T010000Z
LOCATION:1200-1300 West Main Street\nCrisfield Maryland 21817
X-APPLE-STRUCTURED-LOCATION;VALUE=URI;X-ADDRESS=1200-1300 West Main Street\
 nCrisfield Maryland 21817;X-APPLE-RADIUS=49;X-TITLE=1200-1300 West Main St
 reet:geo:37.977802,-75.863501
GEO:37.977802;-75.863501
SUMMARY:Stars and Stripes Fest
CLASS:PUBLIC
DESCRIPTION:Celebrating of the 4th of July with live music and Fireworks.\n
X-ALT-DESC;FMTTYPE=text/html:<p><span style=\"font-size:14px\;\">Celebratin
 g of the 4th of July with live music and Fireworks.</span></p>
DTSTAMP:20260423T185847Z
END:VEVENT
END:VCALENDAR