BEGIN:VCALENDAR
VERSION:2.0
PRODID:SoCo
X-WR-CALNAME:Tawes Museum Opening Day 2026
BEGIN:VEVENT
UID:351932026-05-09
DTSTART:20260509T140000Z
SEQUENCE:0
TRANSP:OPAQUE
DTEND:20260509T180000Z
LOCATION:3 9th Street\nCrisfield Maryland 21817
X-APPLE-STRUCTURED-LOCATION;VALUE=URI;X-ADDRESS=3 9th Street\nCrisfield Mar
 yland 21817;X-APPLE-RADIUS=49;X-TITLE=3 9th Street:geo:37.978320,-75.85951
 5
GEO:37.978320;-75.859515
SUMMARY:Tawes Museum Opening Day 2026
CLASS:PUBLIC
DESCRIPTION:Opening day at the Tawes Museum is Saturday May 9th. Come see t
 he new\nexhibits and check out new merchandise in the gift shop.\n
X-ALT-DESC;FMTTYPE=text/html:<p>Opening day at the Tawes Museum is Saturday
  May 9th. Come see the new exhibits and check out new merchandise in the g
 ift shop.</p>
DTSTAMP:20260425T114229Z
END:VEVENT
END:VCALENDAR