BEGIN:VCALENDAR
VERSION:2.0
PRODID:SoCo
X-WR-CALNAME:The Waffle Bowl
BEGIN:VEVENT
UID:149472022-10-05
DTSTART:20221005T160000Z
SEQUENCE:0
TRANSP:OPAQUE
DTEND:20221005T220000Z
LOCATION:11731 Somerset Avenue\nPrincess Anne MD 21853
X-APPLE-STRUCTURED-LOCATION;VALUE=URI;X-ADDRESS=11731 Somerset Avenue\nPrin
 cess Anne MD 21853;X-APPLE-RADIUS=49;X-TITLE=11731 Somerset Avenue:geo:38.
 203407,-75.692796
GEO:38.203407;-75.692796
SUMMARY:The Waffle Bowl
CLASS:PUBLIC
DESCRIPTION:From 12 to 6 pm every Wednesday - at Somerset Choice on Somerse
 t Ave\nin Princess Anne. Cones (cake\, waffle\, or in a bowl)\, Sundaes\, 
 Shakes\,\nFloats\, Banana splits and Parfaits and more.\n
X-ALT-DESC;FMTTYPE=text/html:<p>From 12 to 6 pm every Wednesday - at Somers
 et Choice on Somerset Ave in Princess Anne. Cones (cake\, waffle\, or in a
  bowl)\, Sundaes\, Shakes\, Floats\, Banana splits and Parfaits and more.<
 /p>
DTSTAMP:20260425T143921Z
END:VEVENT
END:VCALENDAR