BEGIN:VCALENDAR
VERSION:2.0
PRODID:SoCo
X-WR-CALNAME:The Weathered Porch Christmas Open House
BEGIN:VEVENT
UID:189012023-11-17
DTSTART:20231117T150000Z
SEQUENCE:0
TRANSP:OPAQUE
DTEND:20231117T220000Z
LOCATION:1003 West Main Street\nCrisfield Maryland 21817
X-APPLE-STRUCTURED-LOCATION;VALUE=URI;X-ADDRESS=1003 West Main Street\nCris
 field Maryland 21817;X-APPLE-RADIUS=49;X-TITLE=1003 West Main Street:geo:3
 7.978255,-75.862218
GEO:37.978255;-75.862218
SUMMARY:The Weathered Porch Christmas Open House
CLASS:PUBLIC
DESCRIPTION:Ornaments\, Christmas Trees\, Florals\, gingerbread\, vintage S
 anta\nfigures\, holiday wreaths\, and more.  Enjoy a 20% discount on most
 \nChristmas items (excludes sale and consignment items).  Enjoy\nrefreshm
 ents while you shop and enter to win the daily door prize. \nFor more inf
 ormation\, please call 410-251-2126.\n\n \n\n \n
X-ALT-DESC;FMTTYPE=text/html:<p><span style=\"font-size:12pt\; font-variant
 :normal\; white-space:pre-wrap\"><span style=\"font-family:Roboto\,sans-se
 rif\"><span style=\"color:#183247\"><span style=\"font-weight:400\"><span 
 style=\"font-style:normal\"><span style=\"text-decoration:none\">Ornaments
 \, Christmas Trees\, Florals\, gingerbread\, vintage Santa figures\, holid
 ay wreaths\, and more.&nbsp\; Enjoy a 20% discount on most Christmas items
  (excludes sale and consignment items).&nbsp\; Enjoy refreshments while yo
 u shop and enter to win the daily door prize.&nbsp\; For more information\
 , please call 410-251-2126.</span></span></span></span></span></span></p>\
 n\n<p style=\"line-height:1.38\; background-color:#ffffff\"><span style=\"
 font-size:12pt\; font-variant:normal\; white-space:pre-wrap\"><span style=
 \"font-family:Roboto\,sans-serif\"><span style=\"color:#183247\"><span sty
 le=\"font-weight:400\"><span style=\"font-style:normal\"><span style=\"tex
 t-decoration:none\">&nbsp\;</span></span></span></span></span></span></p>\
 n\n<p>&nbsp\;</p>
DTSTAMP:20260420T060049Z
END:VEVENT
END:VCALENDAR