BEGIN:VCALENDAR
VERSION:2.0
PRODID:SoCo
X-WR-CALNAME:Turkey Trot Fun Run and Walk
BEGIN:VEVENT
UID:319192025-11-22
DTSTART:20251122T150000Z
SEQUENCE:0
TRANSP:OPAQUE
DTEND:20251122T170000Z
LOCATION:26280 Alfred J Lawson Drive\nCrisfield Maryland 21817
X-APPLE-STRUCTURED-LOCATION;VALUE=URI;X-ADDRESS=26280 Alfred J Lawson Drive
 \nCrisfield Maryland 21817;X-APPLE-RADIUS=49;X-TITLE=26280 Alfred J Lawson
  Drive:geo:38.010837,-75.847875
GEO:38.010837;-75.847875
SUMMARY:Turkey Trot Fun Run and Walk
CLASS:PUBLIC
DESCRIPTION:Come enjoy a 1.5 mile run or walk at Janes Island State Park in
 \nCrisfield. The event will begin at the camper registration lot. For\nmor
 e information call 443-523-1700. Sponsored by the Somerset County\nHealth 
 Department\, Somerset County Recreation\, Parks and Tourism\,\nMaryland DN
 R and the Maryland Park Service. \n
X-ALT-DESC;FMTTYPE=text/html:<p>Come enjoy a 1.5 mile run or walk at Janes 
 Island State Park in Crisfield. The event will begin at the camper registr
 ation lot. For more information call 443-523-1700. Sponsored by the Somers
 et County Health Department\, Somerset County Recreation\, Parks and Touri
 sm\, Maryland DNR and the Maryland Park Service.&nbsp\;</p>
DTSTAMP:20260422T193008Z
END:VEVENT
END:VCALENDAR