BEGIN:VCALENDAR
VERSION:2.0
PRODID:SoCo
X-WR-CALNAME:Ward Brothers Workshop Tour & Carving Demo
BEGIN:VEVENT
UID:265842025-05-03
DTSTART:20250503T140000Z
SEQUENCE:0
TRANSP:OPAQUE
DTEND:20250503T180000Z
LOCATION:3195 Sackertown Road\nCrisfield Maryland 21817
X-APPLE-STRUCTURED-LOCATION;VALUE=URI;X-ADDRESS=3195 Sackertown Road\nCrisf
 ield Maryland 21817;X-APPLE-RADIUS=49;X-TITLE=3195 Sackertown Road:geo:37.
 970841,-75.843927
GEO:37.970841;-75.843927
SUMMARY:Ward Brothers Workshop Tour & Carving Demo
CLASS:PUBLIC
DESCRIPTION:The \"original\" Ward Brothers Workshop will be open for tours 
 from 10\nam-2pm. There will also be local carvers on hand demonstrating th
 e art\nof decoy carving.\n
X-ALT-DESC;FMTTYPE=text/html:<p><span style=\"font-size:14px\;\">The &quot\
 ;original&quot\; Ward Brothers Workshop will be open for tours from 10 am-
 2pm. There will also be local carvers on hand demonstrating the art of dec
 oy carving.</span></p>
DTSTAMP:20260424T173457Z
END:VEVENT
END:VCALENDAR